BEGIN:VCALENDAR
VERSION:2.0
PRODID:-//Goochland County Republican Committee - ECPv6.15.20//NONSGML v1.0//EN
CALSCALE:GREGORIAN
METHOD:PUBLISH
X-WR-CALNAME:Goochland County Republican Committee
X-ORIGINAL-URL:https://goochland.gop
X-WR-CALDESC:Events for Goochland County Republican Committee
REFRESH-INTERVAL;VALUE=DURATION:PT1H
X-Robots-Tag:noindex
X-PUBLISHED-TTL:PT1H
BEGIN:VTIMEZONE
TZID:America/New_York
BEGIN:DAYLIGHT
TZOFFSETFROM:-0500
TZOFFSETTO:-0400
TZNAME:EDT
DTSTART:20220313T070000
END:DAYLIGHT
BEGIN:STANDARD
TZOFFSETFROM:-0400
TZOFFSETTO:-0500
TZNAME:EST
DTSTART:20221106T060000
END:STANDARD
BEGIN:DAYLIGHT
TZOFFSETFROM:-0500
TZOFFSETTO:-0400
TZNAME:EDT
DTSTART:20230312T070000
END:DAYLIGHT
BEGIN:STANDARD
TZOFFSETFROM:-0400
TZOFFSETTO:-0500
TZNAME:EST
DTSTART:20231105T060000
END:STANDARD
BEGIN:DAYLIGHT
TZOFFSETFROM:-0500
TZOFFSETTO:-0400
TZNAME:EDT
DTSTART:20240310T070000
END:DAYLIGHT
BEGIN:STANDARD
TZOFFSETFROM:-0400
TZOFFSETTO:-0500
TZNAME:EST
DTSTART:20241103T060000
END:STANDARD
END:VTIMEZONE
BEGIN:VEVENT
DTSTART;TZID=America/New_York:20230601T184500
DTEND;TZID=America/New_York:20230601T200000
DTSTAMP:20260424T145126
CREATED:20230329T182833Z
LAST-MODIFIED:20230329T182833Z
UID:126847-1685645100-1685649600@goochland.gop
SUMMARY:Goochland Planning Commission Meeting
DESCRIPTION:
URL:https://goochland.gop/event/goochland-planning-commission-meeting/
LOCATION:1800 Sandy Hook Road
CATEGORIES:Events Calendar
END:VEVENT
BEGIN:VEVENT
DTSTART;TZID=America/New_York:20230520T140000
DTEND;TZID=America/New_York:20230520T210000
DTSTAMP:20260424T145127
CREATED:20230228T150544Z
LAST-MODIFIED:20230228T150544Z
UID:126692-1684591200-1684616400@goochland.gop
SUMMARY:56th House Legislative District Convention
DESCRIPTION:
URL:https://goochland.gop/event/56th-house-legislative-district-convention/
LOCATION:Cumberland High School\, 15 School Road\, Cumberland\, VA\, 23040\, United States
CATEGORIES:Events Calendar
END:VEVENT
BEGIN:VEVENT
DTSTART;TZID=America/New_York:20230517T173000
DTEND;TZID=America/New_York:20230517T193000
DTSTAMP:20260424T145127
CREATED:20230329T182605Z
LAST-MODIFIED:20230329T182605Z
UID:126841-1684344600-1684351800@goochland.gop
SUMMARY:Goochland Economic Development Authority Meeting
DESCRIPTION:
URL:https://goochland.gop/event/goochland-economic-development-authority-meeting/
LOCATION:1800 Sandy Hook Road
CATEGORIES:Events Calendar
END:VEVENT
BEGIN:VEVENT
DTSTART;TZID=America/New_York:20230512T080000
DTEND;TZID=America/New_York:20230512T170000
DTSTAMP:20260424T145127
CREATED:20230409T231925Z
LAST-MODIFIED:20230409T231925Z
UID:126876-1683878400-1683910800@goochland.gop
SUMMARY:Goochland Republican Mass Meeting - May 12th 2023
DESCRIPTION:Other than the general election in November\, this is the Goochland Republican Event of the year.\nGoochland Republicans will assemble in mass to vote to nominate or endorse local candidates.\nNominees will appear on the ballot in November.\nAll seats of county governance are on the ballot.\nWe strongly encourage you to register in advance to save time when checking in. \nThe Mass Meeting Call\, the Registration form\, Candidate application form\, and the renunciation form are all to be found here. \nRegistration and check-in starts at 5:30\nThe Mass meeting begins at 7:00 PM
URL:https://goochland.gop/event/goochland-republican-mass-meeting-may-12th-2023/
LOCATION:Central High Cultural & Educational Complex\, 2748 Dogtown Road\, Goochland\, VA\, 23063
ORGANIZER;CN="Goochland County Republican Committee":MAILTO:ec@goochland.gop
END:VEVENT
BEGIN:VEVENT
DTSTART;TZID=America/New_York:20230509T180000
DTEND;TZID=America/New_York:20230509T200000
DTSTAMP:20260424T145127
CREATED:20230329T183159Z
LAST-MODIFIED:20230329T183159Z
UID:126850-1683655200-1683662400@goochland.gop
SUMMARY:Goochland County School Board Meeting
DESCRIPTION:
URL:https://goochland.gop/event/goochland-county-school-board-meeting-15/
LOCATION:Goochland County Administration Building – Room 250\, 1800 Sandy Hook Road\, Goochland\, VA\, 23063\, United States
CATEGORIES:Events Calendar
END:VEVENT
BEGIN:VEVENT
DTSTART;TZID=America/New_York:20230508T180000
DTEND;TZID=America/New_York:20230508T200000
DTSTAMP:20260424T145127
CREATED:20230228T144034Z
LAST-MODIFIED:20230228T144034Z
UID:126664-1683568800-1683576000@goochland.gop
SUMMARY:Goochland County Electoral Board Meeting
DESCRIPTION:
URL:https://goochland.gop/event/goochland-county-electoral-board-meeting-6/
LOCATION:Goochland Office of the General Registrar\, 1876 Sandy Hook Road\, Goochland\, VA\, 23063\, United States
CATEGORIES:Events Calendar
END:VEVENT
BEGIN:VEVENT
DTSTART;TZID=America/New_York:20230506T103000
DTEND;TZID=America/New_York:20230506T170000
DTSTAMP:20260424T145127
CREATED:20230228T150904Z
LAST-MODIFIED:20230228T150904Z
UID:126696-1683369000-1683392400@goochland.gop
SUMMARY:10th Senate District Convention
DESCRIPTION:
URL:https://goochland.gop/event/10th-senate-district-convention/
LOCATION:Buckingham County High School\, 78 Knights Road\, Buckingham\, VA\, 23921\, United States
CATEGORIES:Events Calendar
END:VEVENT
BEGIN:VEVENT
DTSTART;TZID=America/New_York:20230504T184500
DTEND;TZID=America/New_York:20230504T200000
DTSTAMP:20260424T145127
CREATED:20230329T182356Z
LAST-MODIFIED:20230329T182356Z
UID:126837-1683225900-1683230400@goochland.gop
SUMMARY:Goochland Planning and Commission Meeting
DESCRIPTION:
URL:https://goochland.gop/event/goochland-planning-and-commission-meeting/
LOCATION:1800 Sandy Hook Road
CATEGORIES:Events Calendar
END:VEVENT
BEGIN:VEVENT
DTSTART;TZID=America/New_York:20230502T180000
DTEND;TZID=America/New_York:20230502T200000
DTSTAMP:20260424T145127
CREATED:20230329T182453Z
LAST-MODIFIED:20230329T182453Z
UID:126839-1683050400-1683057600@goochland.gop
SUMMARY:Goochland Board of Supervisors Meeting
DESCRIPTION:
URL:https://goochland.gop/event/goochland-board-of-supervisors-meeting-9/
LOCATION:1800 Sandy Hook Road
CATEGORIES:Events Calendar
END:VEVENT
BEGIN:VEVENT
DTSTART;TZID=America/New_York:20230419T190000
DTEND;TZID=America/New_York:20230419T200000
DTSTAMP:20260424T145127
CREATED:20230127T213647Z
LAST-MODIFIED:20230413T122613Z
UID:126532-1681930800-1681934400@goochland.gop
SUMMARY:Goochland County Republican Committee Meeting
DESCRIPTION:The GCRC will host a forum/debate for the candidates of the 56th Legislative District at our April business meeting! \nThis is the best opportunity Goochland Republicans will have to see\, hear from and scrutinize the three individuals vying for the nomination in one place.\nQuestions to be posed from the candidates can be submitted here.\nOur moderator and 1st Vice Chair Jim Herring will conduct the event after a brief business meeting. \nNote – The event will be held at the American Legion post 215\, and not in the Goochland County Administration Building as previously planned. \nThe 56th district convention is being held May 20\, 2023 at Cumberland High School.
URL:https://goochland.gop/event/goochland-county-republican-committee-meeting-10/
LOCATION:American Legion Post #215 Goochland County\, 3386 River Road West\, Goochland\, VA\, 23063\, United States
CATEGORIES:Events Calendar
ATTACH;FMTTYPE=image/png:https://goochland.gop/wp-content/uploads/2023/04/56LDCFIMage.png
ORGANIZER;CN="Goochland County Republican Committee":MAILTO:ec@goochland.gop
END:VEVENT
BEGIN:VEVENT
DTSTART;TZID=America/New_York:20230419T173000
DTEND;TZID=America/New_York:20230419T190000
DTSTAMP:20260424T145127
CREATED:20230329T182305Z
LAST-MODIFIED:20230329T182305Z
UID:126835-1681925400-1681930800@goochland.gop
SUMMARY:Goochland Economic Development Meeting
DESCRIPTION:
URL:https://goochland.gop/event/goochland-economic-development-meeting/
LOCATION:1800 Sandy Hook Road\, 1800 Sandy Hook Road\, Goochland\, VA\, 23063\, United States
CATEGORIES:Events Calendar
END:VEVENT
BEGIN:VEVENT
DTSTART;TZID=America/New_York:20230418T180000
DTEND;TZID=America/New_York:20230418T200000
DTSTAMP:20260424T145127
CREATED:20230329T182210Z
LAST-MODIFIED:20230329T182210Z
UID:126833-1681840800-1681848000@goochland.gop
SUMMARY:Goochland Board of Supervisors Meeting
DESCRIPTION:
URL:https://goochland.gop/event/goochland-board-of-supervisors-meeting-8/
LOCATION:Goochland County Administration Building – Room 250\, 1800 Sandy Hook Road\, Goochland\, VA\, 23063\, United States
CATEGORIES:Events Calendar
END:VEVENT
BEGIN:VEVENT
DTSTART;TZID=America/New_York:20230411T180000
DTEND;TZID=America/New_York:20230411T220000
DTSTAMP:20260424T145127
CREATED:20230127T210953Z
LAST-MODIFIED:20230127T210953Z
UID:126499-1681236000-1681250400@goochland.gop
SUMMARY:Goochland County School Board Meeting
DESCRIPTION:
URL:https://goochland.gop/event/goochland-county-school-board-meeting-14/
LOCATION:Goochland County Administration Building – Room 250\, 1800 Sandy Hook Road\, Goochland\, VA\, 23063\, United States
CATEGORIES:Events Calendar
END:VEVENT
BEGIN:VEVENT
DTSTART;TZID=America/New_York:20230411T170000
DTEND;TZID=America/New_York:20230411T190000
DTSTAMP:20260424T145127
CREATED:20230329T181942Z
LAST-MODIFIED:20230329T181942Z
UID:126829-1681232400-1681239600@goochland.gop
SUMMARY:Goochland County Planning Commission Work Session Meeting
DESCRIPTION:
URL:https://goochland.gop/event/goochland-county-planning-commission-work-session-meeting/
LOCATION:1800 Sandy Hook Road – Room 270\, 1800 Sandy Hook Road\, Goochland\, Virginia\, 23063\, United States
CATEGORIES:Events Calendar
END:VEVENT
BEGIN:VEVENT
DTSTART;TZID=America/New_York:20230410T180000
DTEND;TZID=America/New_York:20230410T200000
DTSTAMP:20260424T145127
CREATED:20230228T143948Z
LAST-MODIFIED:20230228T143948Z
UID:126662-1681149600-1681156800@goochland.gop
SUMMARY:Goochland County Electoral Board Meeting
DESCRIPTION:
URL:https://goochland.gop/event/goochland-county-electoral-board-meeting-5/
LOCATION:Goochland Office of the General Registrar\, 1876 Sandy Hook Road\, Goochland\, VA\, 23063\, United States
CATEGORIES:Events Calendar
END:VEVENT
BEGIN:VEVENT
DTSTART;TZID=America/New_York:20230406T184500
DTEND;TZID=America/New_York:20230406T200000
DTSTAMP:20260424T145127
CREATED:20230329T181837Z
LAST-MODIFIED:20230329T181837Z
UID:126827-1680806700-1680811200@goochland.gop
SUMMARY:Goochland County Planning Commission Meeting
DESCRIPTION:
URL:https://goochland.gop/event/goochland-county-planning-commission-meeting-8/
LOCATION:Goochland County Administration Building – Room 250\, 1800 Sandy Hook Road\, Goochland\, VA\, 23063\, United States
CATEGORIES:Events Calendar
END:VEVENT
BEGIN:VEVENT
DTSTART;TZID=America/New_York:20230404T180000
DTEND;TZID=America/New_York:20230404T200000
DTSTAMP:20260424T145127
CREATED:20230329T182059Z
LAST-MODIFIED:20230329T182059Z
UID:126831-1680631200-1680638400@goochland.gop
SUMMARY:Goochland Board of Supervisors Meeting
DESCRIPTION:
URL:https://goochland.gop/event/goochland-board-of-supervisors-meeting-7/
LOCATION:VA
CATEGORIES:Events Calendar
END:VEVENT
BEGIN:VEVENT
DTSTART;TZID=America/New_York:20230401T100000
DTEND;TZID=America/New_York:20230401T140000
DTSTAMP:20260424T145127
CREATED:20230227T214757Z
LAST-MODIFIED:20230227T214757Z
UID:126657-1680343200-1680357600@goochland.gop
SUMMARY:5th Congressional District Business Meeting
DESCRIPTION:
URL:https://goochland.gop/event/5th-congressional-district-business-meeting/
LOCATION:Charley’s Waterfront Cafe in Farmville\, 201 Mill St\, Farmville\, VA 23901\, Farmville\, VA\, 23091\, United States
CATEGORIES:Events Calendar
END:VEVENT
BEGIN:VEVENT
DTSTART;TZID=America/New_York:20230330T183000
DTEND;TZID=America/New_York:20230330T203000
DTSTAMP:20260424T145127
CREATED:20230127T212442Z
LAST-MODIFIED:20230127T212442Z
UID:126514-1680201000-1680208200@goochland.gop
SUMMARY:District 2&3 Joint BOS and School Board Town Hall
DESCRIPTION:
URL:https://goochland.gop/event/district-23-joint-bos-and-school-board-town-hall/
LOCATION:Goochland County Administration Building\, 1800 Sandy Hook Rd\, Goochland\, VA\, 23063\, United States
CATEGORIES:Events Calendar
END:VEVENT
BEGIN:VEVENT
DTSTART;TZID=America/New_York:20230325T083000
DTEND;TZID=America/New_York:20230325T170000
DTSTAMP:20260424T145127
CREATED:20230207T002021Z
LAST-MODIFIED:20230207T002246Z
UID:126563-1679733000-1679763600@goochland.gop
SUMMARY:2nd Annual Virginia Youth Summit - Middle Resolution
DESCRIPTION:The Middle Resolution Policy Foundation is pleased to host the 2nd Annual Virginia Education Summit on March 25 at the Virginia Crossings Hotel and Conference Center! \nMarch 25th 8:30 AM to 5:00 PM\nVirginia Crossings Hotel and Conference Center\n1000 Virginia Center Parkway\nGlen Allen\, VA 23059 \nA few of our featured speakers: \nKerry McDonald\nSenior Education Fellow at the Foundation for Economic Education\nKerry McDonald is an adjunct scholar at the Cato Institute’s Center for Educational Freedom and a senior education fellow at the Foundation for Economic Education. She is the author of Unschooled: Raising Curious\, Well‐​Educated Children outside the Conventional Classroom (Chicago Review Press\, 2019) and a regular Forbes contributor. \nWill Estrada\, Esq\nPresident of the Parental Rights Foundation\nWill is a husband\, dad\, attorney\, and the President of ParentalRights.org and the Parental Rights Foundation\, two nationwide nonprofits headquartered in Loudoun County\, Virginia that have advocated at the local\, state\, and federal level for the last fifteen years to protect children by empowering parents.
URL:https://goochland.gop/event/2nd-annual-virginia-youth-summit-middle-resolution/
LOCATION:Virginia Crossings Hotel & Conference Center\, 1000 Virginia Center Pkwy\, Glen Allen\, VA\, 23059\, United States
ATTACH;FMTTYPE=image/jpeg:https://goochland.gop/wp-content/uploads/2023/02/MiddleR.jpg
ORGANIZER;CN="Middle Resolution":MAILTO:mailto:info@middleresolutionpolicy.org
END:VEVENT
BEGIN:VEVENT
DTSTART;TZID=America/New_York:20230323T183000
DTEND;TZID=America/New_York:20230323T203000
DTSTAMP:20260424T145127
CREATED:20230127T212306Z
LAST-MODIFIED:20230127T212306Z
UID:126512-1679596200-1679603400@goochland.gop
SUMMARY:District 1 Joint BOS and School Board Town Hall
DESCRIPTION:
URL:https://goochland.gop/event/district-1-joint-bos-and-school-board-town-hall/
LOCATION:Byrd Elementary School\, 2704 Hadensville-Fife Rd\, Goochland\, VA\, 23063\, United States
CATEGORIES:Events Calendar
END:VEVENT
BEGIN:VEVENT
DTSTART;TZID=America/New_York:20230315T190000
DTEND;TZID=America/New_York:20230315T200000
DTSTAMP:20260424T145127
CREATED:20230127T213558Z
LAST-MODIFIED:20230127T213558Z
UID:126530-1678906800-1678910400@goochland.gop
SUMMARY:Goochland County Republican Committee Meeting
DESCRIPTION:
URL:https://goochland.gop/event/goochland-county-republican-committee-meeting-9/
LOCATION:Goochland County Administration Building – Room 250\, 1800 Sandy Hook Road\, Goochland\, VA\, 23063\, United States
CATEGORIES:Events Calendar
END:VEVENT
BEGIN:VEVENT
DTSTART;TZID=America/New_York:20230315T173000
DTEND;TZID=America/New_York:20230315T193000
DTSTAMP:20260424T145127
CREATED:20230127T212631Z
LAST-MODIFIED:20230127T212631Z
UID:126518-1678901400-1678908600@goochland.gop
SUMMARY:Economic Development Authority Meeting
DESCRIPTION:
URL:https://goochland.gop/event/economic-development-authority-meeting-3/
LOCATION:Goochland County Administration Building\, 1800 Sandy Hook Rd\, Goochland\, VA\, 23063\, United States
CATEGORIES:Events Calendar
END:VEVENT
BEGIN:VEVENT
DTSTART;TZID=America/New_York:20230315T170000
DTEND;TZID=America/New_York:20230315T190000
DTSTAMP:20260424T145127
CREATED:20230309T142942Z
LAST-MODIFIED:20230309T142942Z
UID:126759-1678899600-1678906800@goochland.gop
SUMMARY:Fundraiser with Bob Good for Tom Garrett
DESCRIPTION:Congressman Bob Good has graciously offered to host a fundraiser to support the campaign for candidate\, Tom Garrett for the 56th House of Delegates District. \n  \nWednesday\, March 15 \n5-7 PM \nCourthouse Market and Grill \n2962 River Road W\, Goochland VA 23063 \n  \nTickets start at $50 \n  \nGold Sponsorship – $2\,500 \nSilver Sponsorship – $1\,000 \nBronze Sponsorship – $500 \n  \nIf you are interested in attending\, please RSVP to info@tomfordelegate.com!
URL:https://goochland.gop/event/fundraiser-with-bob-good-for-tom-garrett/
LOCATION:Courthouse Market and Grill\, 2962 River Road W\, Goochland\, VA\, 23063\, United States
CATEGORIES:Events Calendar
END:VEVENT
BEGIN:VEVENT
DTSTART;TZID=America/New_York:20230314T180000
DTEND;TZID=America/New_York:20230314T220000
DTSTAMP:20260424T145127
CREATED:20230127T210913Z
LAST-MODIFIED:20230127T210913Z
UID:126497-1678816800-1678831200@goochland.gop
SUMMARY:Goochland County School Board Meeting
DESCRIPTION:
URL:https://goochland.gop/event/goochland-county-school-board-meeting-13/
LOCATION:Goochland County Administration Building – Room 250\, 1800 Sandy Hook Road\, Goochland\, VA\, 23063\, United States
CATEGORIES:Events Calendar
END:VEVENT
BEGIN:VEVENT
DTSTART;TZID=America/New_York:20230314T180000
DTEND;TZID=America/New_York:20230314T200000
DTSTAMP:20260424T145127
CREATED:20230309T142403Z
LAST-MODIFIED:20230309T142403Z
UID:126752-1678816800-1678824000@goochland.gop
SUMMARY:Duane Adams - Meet & Greet
DESCRIPTION:Duane is a candidate for the 10th Senate District\, which includes Goochland. This is a great chance to come out and meet Duane ahead of the Goochland GOP’s prefile deadline (March 15th) to be a delegate at the 10th Senate District Convention on May 6th. \n  \nDuane is a small business owner\, serves on the Board of Supervisors in Louisa and\, importantly\, has effectively served Louisa and knows how to get things done. I know he will do a great job serving Goochland and the whole 10th Senate District in the General Assembly.
URL:https://goochland.gop/event/duane-adams-meet-greet/
LOCATION:Sportspage Bar and Grill Goochland\, 36 Broad Street Road\, Manakin Sabot\, VA\, 23103\, United States
CATEGORIES:Events Calendar
END:VEVENT
BEGIN:VEVENT
DTSTART;TZID=America/New_York:20230313T180000
DTEND;TZID=America/New_York:20230313T200000
DTSTAMP:20260424T145127
CREATED:20230228T143828Z
LAST-MODIFIED:20230228T143828Z
UID:126660-1678730400-1678737600@goochland.gop
SUMMARY:Goochland County Electoral Board Meeting
DESCRIPTION:
URL:https://goochland.gop/event/goochland-county-electoral-board-meeting-4/
LOCATION:Goochland Office of the General Registrar\, 1876 Sandy Hook Road\, Goochland\, VA\, 23063\, United States
CATEGORIES:Events Calendar
END:VEVENT
BEGIN:VEVENT
DTSTART;TZID=America/New_York:20230312T130000
DTEND;TZID=America/New_York:20230312T150000
DTSTAMP:20260424T145127
CREATED:20230309T142112Z
LAST-MODIFIED:20230309T142112Z
UID:126750-1678626000-1678633200@goochland.gop
SUMMARY:Join Jennie for Ice Cream in Goochland on Sunday!
DESCRIPTION:Join Jennie and special guest Taylor Keeney for an old fashioned Ice Cream Social! \n\n\n\nJoin Jennie and Taylor for Richland’s Ice Cream at The Goochland Restaurant after church on Sunday!\n\n\nJoin us at The Goochland Restaurant \n  \nSunday\, March 12th\, 1PM-3PM \n2966 River Rd W\, Goochland\, VA 23063 \n  \nFor more information\, please contact Jennie at jennie@wood4delegate.com
URL:https://goochland.gop/event/join-jennie-for-ice-cream-in-goochland-on-sunday/
LOCATION:Goochland Restaurant\, 2966 River Rd W\, Goochland\, VA\, 23063\, United States
CATEGORIES:Events Calendar
END:VEVENT
BEGIN:VEVENT
DTSTART;TZID=America/New_York:20230311T110000
DTEND;TZID=America/New_York:20230311T150000
DTSTAMP:20260424T145127
CREATED:20230306T140743Z
LAST-MODIFIED:20230306T140743Z
UID:126714-1678532400-1678546800@goochland.gop
SUMMARY:2023 VA Senate District 10 Republican Forum
DESCRIPTION:Come Meet your Candidates! \nDuane Adams\, Sandra Brindley\, Jack Dyer & John McGuire
URL:https://goochland.gop/event/2023-va-senate-district-10-republican-forum/
LOCATION:Village Building Auditorium (Powhatan)\, 3910 Old Buckingham Road\, Powhatan\, VA\, 23139\, United States
CATEGORIES:Events Calendar
END:VEVENT
BEGIN:VEVENT
DTSTART;TZID=America/New_York:20230309T090000
DTEND;TZID=America/New_York:20230309T110000
DTSTAMP:20260424T145127
CREATED:20230306T184850Z
LAST-MODIFIED:20230306T184850Z
UID:126721-1678352400-1678359600@goochland.gop
SUMMARY:Bob Good - Mobile Office Hours in Goochland
DESCRIPTION:Constituent Services Representative\, Lisa Kyle\, will hold mobile office hours in Goochland County on March 9\, 2023. \nThe Goochland County mobile office hours will take place from 9 – 11 a.m. at: \nGoochland County Administration Building – Room 233 \n1800 Sandy Hook Road\, Goochland\, VA 23063 \nWhile it is not required\, it is recommended that you please call my District office at (434) 791-2596 to schedule a time. Walk-ins are welcome but appointments are encouraged. If you are not able to visit us during this time\, know that my staff remains ready\, willing\, and able to assist you.
URL:https://goochland.gop/event/bob-good-mobile-office-hours-in-goochland/
LOCATION:1800 Sandy Hook Road
CATEGORIES:Events Calendar
END:VEVENT
END:VCALENDAR